BEGIN:VCALENDAR
VERSION:2.0
PRODID:-//Ayuntamiento de Rus - ECPv6.15.16.1//NONSGML v1.0//EN
CALSCALE:GREGORIAN
METHOD:PUBLISH
X-ORIGINAL-URL:https://rus.es
X-WR-CALDESC:Eventos para Ayuntamiento de Rus
REFRESH-INTERVAL;VALUE=DURATION:PT1H
X-Robots-Tag:noindex
X-PUBLISHED-TTL:PT1H
BEGIN:VTIMEZONE
TZID:UTC
BEGIN:STANDARD
TZOFFSETFROM:+0000
TZOFFSETTO:+0000
TZNAME:UTC
DTSTART:20160101T000000
END:STANDARD
END:VTIMEZONE
BEGIN:VEVENT
DTSTART;TZID=UTC:20170217T093000
DTEND;TZID=UTC:20170217T103000
DTSTAMP:20260421T112626
CREATED:20170212T181407Z
LAST-MODIFIED:20170212T181407Z
UID:3368-1487323800-1487327400@rus.es
SUMMARY:Encuentro de Asociaciones Comarcales
DESCRIPTION:Encuentro de asociaciones comarcales
URL:https://rus.es/event/encuentro-de-asociaciones-comarcales/
END:VEVENT
END:VCALENDAR