BEGIN:VCALENDAR
VERSION:2.0
PRODID:-//Ayuntamiento de Rus - ECPv6.15.16.1//NONSGML v1.0//EN
CALSCALE:GREGORIAN
METHOD:PUBLISH
X-WR-CALNAME:Ayuntamiento de Rus
X-ORIGINAL-URL:https://rus.es
X-WR-CALDESC:Eventos para Ayuntamiento de Rus
REFRESH-INTERVAL;VALUE=DURATION:PT1H
X-Robots-Tag:noindex
X-PUBLISHED-TTL:PT1H
BEGIN:VTIMEZONE
TZID:Europe/Helsinki
BEGIN:DAYLIGHT
TZOFFSETFROM:+0200
TZOFFSETTO:+0300
TZNAME:EEST
DTSTART:20180325T010000
END:DAYLIGHT
BEGIN:STANDARD
TZOFFSETFROM:+0300
TZOFFSETTO:+0200
TZNAME:EET
DTSTART:20181028T010000
END:STANDARD
BEGIN:DAYLIGHT
TZOFFSETFROM:+0200
TZOFFSETTO:+0300
TZNAME:EEST
DTSTART:20190331T010000
END:DAYLIGHT
BEGIN:STANDARD
TZOFFSETFROM:+0300
TZOFFSETTO:+0200
TZNAME:EET
DTSTART:20191027T010000
END:STANDARD
BEGIN:DAYLIGHT
TZOFFSETFROM:+0200
TZOFFSETTO:+0300
TZNAME:EEST
DTSTART:20200329T010000
END:DAYLIGHT
BEGIN:STANDARD
TZOFFSETFROM:+0300
TZOFFSETTO:+0200
TZNAME:EET
DTSTART:20201025T010000
END:STANDARD
END:VTIMEZONE
BEGIN:VEVENT
DTSTART;TZID=Europe/Helsinki:20190330T080000
DTEND;TZID=Europe/Helsinki:20190330T210000
DTSTAMP:20260423T233456
CREATED:20190329T133233Z
LAST-MODIFIED:20190329T133233Z
UID:6608-1553932800-1553979600@rus.es
SUMMARY:Asistencia a la Fiesta de Estatutos de la Cofradía del Santísimo Cristo de la Buena Muerte y María Santísima de la Amargura
DESCRIPTION:Asistencia a la Fiesta de Estatutos de la Cofradía del Santísimo Cristo de la Buena Muerte y María Santísima de la Amargura\, a las 20 horas
URL:https://rus.es/event/asistencia-a-la-fiesta-de-estatutos-de-la-cofradia-del-santisimo-cristo-de-la-buena-muerte-y-maria-santisima-de-la-amargura/
END:VEVENT
BEGIN:VEVENT
DTSTART;TZID=Europe/Helsinki:20190331T120000
DTEND;TZID=Europe/Helsinki:20190331T140000
DTSTAMP:20260423T233456
CREATED:20190329T133327Z
LAST-MODIFIED:20190329T133344Z
UID:6610-1554033600-1554040800@rus.es
SUMMARY:Asistencia a la II Antología Cofrade "Villa de Rus"
DESCRIPTION:Asistencia a la Segunda Antología Cofrade “Villa de Rus”\, organizada por el Excmo. Ayuntamiento de Rus\, en el Pabellón Gaspar Ortiz Tribaldos a las 12 horas.
URL:https://rus.es/event/asistencia-a-la-ii-antologia-cofrade-villa-de-rus/
END:VEVENT
BEGIN:VEVENT
DTSTART;TZID=Europe/Helsinki:20190401T090000
DTEND;TZID=Europe/Helsinki:20190401T220000
DTSTAMP:20260423T233456
CREATED:20190329T132550Z
LAST-MODIFIED:20190329T132550Z
UID:6594-1554109200-1554156000@rus.es
SUMMARY:Reunión representantes sindicales
DESCRIPTION:Reunión representantes Sindicales: UGT y CCOO
URL:https://rus.es/event/reunion-representantes-sindicales/
END:VEVENT
BEGIN:VEVENT
DTSTART;TZID=Europe/Helsinki:20190401T113000
DTEND;TZID=Europe/Helsinki:20190401T113000
DTSTAMP:20260423T233456
CREATED:20190329T132743Z
LAST-MODIFIED:20190329T132743Z
UID:6598-1554118200-1554118200@rus.es
SUMMARY:Consejo Escolar Extraordinario IES Ruradia
DESCRIPTION:Asistencia al Consejo Escolar Extraordinario del IES RURADIA.
URL:https://rus.es/event/consejo-escolar-extraordinario-ies-ruradia/
END:VEVENT
BEGIN:VEVENT
DTSTART;TZID=Europe/Helsinki:20190401T120000
DTEND;TZID=Europe/Helsinki:20190401T140000
DTSTAMP:20260423T233456
CREATED:20190329T132646Z
LAST-MODIFIED:20190329T132646Z
UID:6596-1554120000-1554127200@rus.es
SUMMARY:Reunión en Delegación de Medio Ambiente
DESCRIPTION:Reunión en la Delegación de Medio Ambiente. Tema: EDAR de Rus\, Canena y la Yedra.
URL:https://rus.es/event/reunion-en-delegacion-de-medio-ambiente/
END:VEVENT
BEGIN:VEVENT
DTSTART;TZID=Europe/Helsinki:20190402T093000
DTEND;TZID=Europe/Helsinki:20190402T230000
DTSTAMP:20260423T233456
CREATED:20190329T132838Z
LAST-MODIFIED:20190329T132838Z
UID:6600-1554197400-1554246000@rus.es
SUMMARY:Reunión en el ATLAS
DESCRIPTION:Reunión en el ATLAS acompañado de los Servicios Técnicos del Ayuntamiento.
URL:https://rus.es/event/reunion-en-el-atlas/
END:VEVENT
BEGIN:VEVENT
DTSTART;TZID=Europe/Helsinki:20190402T130000
DTEND;TZID=Europe/Helsinki:20190402T140000
DTSTAMP:20260423T233456
CREATED:20190329T132919Z
LAST-MODIFIED:20190329T132919Z
UID:6602-1554210000-1554213600@rus.es
SUMMARY:Reunión con Asociaciones de Mujeres
DESCRIPTION:Reunión con Asociaciones de Mujeres en el Salón de Plenos del Ayuntamiento. \n 
URL:https://rus.es/event/reunion-con-asociaciones-de-mujeres/
END:VEVENT
BEGIN:VEVENT
DTSTART;TZID=Europe/Helsinki:20190403T120000
DTEND;TZID=Europe/Helsinki:20190403T133000
DTSTAMP:20260423T233456
CREATED:20190329T133015Z
LAST-MODIFIED:20190329T133015Z
UID:6604-1554292800-1554298200@rus.es
SUMMARY:Asistencia al acto de la Conmemoración de los 40 años de Ayuntamientos y Diputaciones Democráticas
DESCRIPTION:Asistencia al acto de la Conmemoración de los 40 años de Ayuntamientos y Diputaciones Democráticas. Lugar: Salón de Plenos del Palacio Provincial. \n 
URL:https://rus.es/event/asistencia-al-acto-de-la-conmemoracion-de-los-40-anos-de-ayuntamientos-y-diputaciones-democraticas/
END:VEVENT
BEGIN:VEVENT
DTSTART;TZID=Europe/Helsinki:20190406T200000
DTEND;TZID=Europe/Helsinki:20190406T210000
DTSTAMP:20260423T233456
CREATED:20190329T133128Z
LAST-MODIFIED:20190329T133128Z
UID:6606-1554580800-1554584400@rus.es
SUMMARY:Asistencia a la XXIX Fiesta Principal de la Antigua e Ilustre Cofradía de Nuestro Padre Jesús Nazareno
DESCRIPTION:Asistencia a la XXIX Fiesta Principal de la Antigua e Ilustre Cofradía de Nuestro Padre Jesús Nazareno.
URL:https://rus.es/event/asistencia-a-la-xxix-fiesta-principal-de-la-antigua-e-ilustre-cofradia-de-nuestro-padre-jesus-nazareno/
END:VEVENT
BEGIN:VEVENT
DTSTART;TZID=Europe/Helsinki:20190409T100000
DTEND;TZID=Europe/Helsinki:20190409T123000
DTSTAMP:20260423T233456
CREATED:20190410T220151Z
LAST-MODIFIED:20190410T220151Z
UID:6621-1554804000-1554813000@rus.es
SUMMARY:Reunión Director Territorial de Guadalinfo
DESCRIPTION:Reunión Director Territorial de Guadalinfo
URL:https://rus.es/event/reunion-director-territorial-de-guadalinfo/
END:VEVENT
BEGIN:VEVENT
DTSTART;TZID=Europe/Helsinki:20190412T200000
DTEND;TZID=Europe/Helsinki:20190412T230000
DTSTAMP:20260423T233456
CREATED:20190410T220235Z
LAST-MODIFIED:20190410T220235Z
UID:6623-1555099200-1555110000@rus.es
SUMMARY:Viernes de Dolores
DESCRIPTION:Asistencia a la Misa del Grupo Parroquial de Nuestra Señora de los Dolores y acompañamiento en la Procesión.
URL:https://rus.es/event/viernes-de-dolores/
END:VEVENT
BEGIN:VEVENT
DTSTART;TZID=Europe/Helsinki:20190413T210000
DTEND;TZID=Europe/Helsinki:20190413T223000
DTSTAMP:20260423T233456
CREATED:20190411T160323Z
LAST-MODIFIED:20190411T160323Z
UID:6629-1555189200-1555194600@rus.es
SUMMARY:Concierto de Marchas de Semana Santa
DESCRIPTION:Concierto de Marchas de Semana Santa\, con motivo del X Aniversario de la llegada a Rus de la imagen de Ntro.Padre Jesús Cautivo
URL:https://rus.es/event/concierto-de-marchas-de-semana-santa/
END:VEVENT
BEGIN:VEVENT
DTSTART;TZID=Europe/Helsinki:20190414T123000
DTEND;TZID=Europe/Helsinki:20190414T203000
DTSTAMP:20260423T233456
CREATED:20190411T160442Z
LAST-MODIFIED:20190411T160442Z
UID:6631-1555245000-1555273800@rus.es
SUMMARY:Actos Religiosos y procesionales de la Hermandad de la Borriquilla
DESCRIPTION:Actos Religiosos y procesionales de la Hermandad de la Borriquilla.\nA las 12:30 horas y 18:30 horas
URL:https://rus.es/event/actos-religiosos-y-procesionales-de-la-hermandad-de-la-borriquilla/
END:VEVENT
BEGIN:VEVENT
DTSTART;TZID=Europe/Helsinki:20190503T180000
DTEND;TZID=Europe/Helsinki:20190503T210000
DTSTAMP:20260423T233456
CREATED:20190515T222443Z
LAST-MODIFIED:20190515T222443Z
UID:6684-1556906400-1556917200@rus.es
SUMMARY:Santa Cruz
DESCRIPTION:Acompañamiento a la Hermandad de la Santa Cruz: Misa y Hermandad
URL:https://rus.es/event/santa-cruz-2/
END:VEVENT
BEGIN:VEVENT
DTSTART;TZID=Europe/Helsinki:20190506T100000
DTEND;TZID=Europe/Helsinki:20190506T140000
DTSTAMP:20260423T233456
CREATED:20190515T222557Z
LAST-MODIFIED:20190515T222557Z
UID:6686-1557136800-1557151200@rus.es
SUMMARY:Reunión Fondos FEDER
DESCRIPTION:Asistencia a la reunión informativa de los Fondos FEDER de Economía Baja en Carbono
URL:https://rus.es/event/reunion-fondos-feder/
END:VEVENT
BEGIN:VEVENT
DTSTART;TZID=Europe/Helsinki:20190515T080000
DTEND;TZID=Europe/Helsinki:20190515T143000
DTSTAMP:20260423T233456
CREATED:20190515T222317Z
LAST-MODIFIED:20190515T222318Z
UID:6682-1557907200-1557930600@rus.es
SUMMARY:Asistencia a la Inauguración de Expoliva
DESCRIPTION:Asistencia a la Inauguración de Expoliva
URL:https://rus.es/event/asistencia-a-la-inauguracion-de-expoliva/
LOCATION:IFEJA
END:VEVENT
BEGIN:VEVENT
DTSTART;TZID=Europe/Helsinki:20190521T090000
DTEND;TZID=Europe/Helsinki:20190521T230000
DTSTAMP:20260423T233456
CREATED:20190516T193005Z
LAST-MODIFIED:20190516T193036Z
UID:6694-1558429200-1558479600@rus.es
SUMMARY:Mesa general de Negociación con los Sindicatos y Representantes de los trabajadores.
DESCRIPTION:Mesa general de Negociación con los Sindicatos y Representantes de los trabajadores.
URL:https://rus.es/event/mesa-general-de-negociacion-con-los-sindicatos-y-representantes-de-los-trabajadores/
END:VEVENT
BEGIN:VEVENT
DTSTART;TZID=Europe/Helsinki:20190522T100000
DTEND;TZID=Europe/Helsinki:20190522T113000
DTSTAMP:20260423T233456
CREATED:20190516T194619Z
LAST-MODIFIED:20190516T194619Z
UID:6698-1558519200-1558524600@rus.es
SUMMARY:Reunión con la OTRI
DESCRIPTION:Reunión con la OTRI en la Universidad de Jaén.
URL:https://rus.es/event/reunion-con-la-otri/
END:VEVENT
BEGIN:VEVENT
DTSTART;TZID=Europe/Helsinki:20190523T120000
DTEND;TZID=Europe/Helsinki:20190523T133000
DTSTAMP:20260423T233456
CREATED:20190522T082915Z
LAST-MODIFIED:20190522T082915Z
UID:6703-1558612800-1558618200@rus.es
SUMMARY:Reunión con la OTRI
DESCRIPTION:Reunión con la OTRI en la Universidad de Jaén \n 
URL:https://rus.es/event/reunion-con-la-otri-2/
END:VEVENT
BEGIN:VEVENT
DTSTART;TZID=Europe/Helsinki:20190620T200000
DTEND;TZID=Europe/Helsinki:20190620T223000
DTSTAMP:20260423T233456
CREATED:20190619T180756Z
LAST-MODIFIED:20190619T180855Z
UID:6802-1561060800-1561069800@rus.es
SUMMARY:Fiesta Fin de Curso
DESCRIPTION:Fiesta Fin de Curso del Colegio «Nueva Andalucía»:\nHora: 20:00 horas\nLugar: Auditorio Municipal
URL:https://rus.es/event/fiesta-fin-de-curso/
END:VEVENT
BEGIN:VEVENT
DTSTART;TZID=Europe/Helsinki:20190621T210000
DTEND;TZID=Europe/Helsinki:20190621T220000
DTSTAMP:20260423T233456
CREATED:20190619T182238Z
LAST-MODIFIED:20190619T182238Z
UID:6815-1561150800-1561154400@rus.es
SUMMARY:Reunión Asociación "Enmascarados"
DESCRIPTION:Reunión Asociación «Enmascarados»
URL:https://rus.es/event/reunion-asociacion-enmascarados-4/
END:VEVENT
BEGIN:VEVENT
DTSTART;TZID=Europe/Helsinki:20190623T110000
DTEND;TZID=Europe/Helsinki:20190623T140000
DTSTAMP:20260423T233456
CREATED:20190619T181043Z
LAST-MODIFIED:20190619T181043Z
UID:6805-1561287600-1561298400@rus.es
SUMMARY:Corpus Christi
DESCRIPTION:Acompañamiento a los actos del día del Corpus Christi organizados por la Hermandad del Santísimo Sacramento.
URL:https://rus.es/event/corpus-christi/
END:VEVENT
BEGIN:VEVENT
DTSTART;TZID=Europe/Helsinki:20190624T203000
DTEND;TZID=Europe/Helsinki:20190624T213000
DTSTAMP:20260423T233456
CREATED:20190623T123742Z
LAST-MODIFIED:20190623T123742Z
UID:6825-1561408200-1561411800@rus.es
SUMMARY:Preparación Real Feria
DESCRIPTION:Reunión para la preparación de la Real Feria de Rus 2019
URL:https://rus.es/event/preparacion-real-feria/
END:VEVENT
BEGIN:VEVENT
DTSTART;TZID=Europe/Helsinki:20190628T203000
DTEND;TZID=Europe/Helsinki:20190628T203000
DTSTAMP:20260423T233456
CREATED:20190619T181202Z
LAST-MODIFIED:20190619T182005Z
UID:6807-1561753800-1561753800@rus.es
SUMMARY:Presentación del vídeo "Hipogeo de Valdecanales"
DESCRIPTION:Presentación del vídeo «Hipogeo de Valdecanales».\nLugar: Casa de la Juventud\nHora: 20:30 horas
URL:https://rus.es/event/presentacion-del-video-hipogeo-de-valdecanales/
END:VEVENT
BEGIN:VEVENT
DTSTART;TZID=Europe/Helsinki:20190629T080000
DTEND;TZID=Europe/Helsinki:20190629T170000
DTSTAMP:20260423T233456
CREATED:20190619T181616Z
LAST-MODIFIED:20190619T181730Z
UID:6811-1561795200-1561827600@rus.es
SUMMARY:I Concierto de Bandas Sonoras
DESCRIPTION:I Concierto de Bandas Sonoras\nLugar: Auditorio Municipal José Manuel Campos López «Chinelo»
URL:https://rus.es/event/i-concierto-de-bandas-sonoras/
END:VEVENT
BEGIN:VEVENT
DTSTART;TZID=Europe/Helsinki:20190629T190000
DTEND;TZID=Europe/Helsinki:20190629T190000
DTSTAMP:20260423T233456
CREATED:20190628T181343Z
LAST-MODIFIED:20190619T181856Z
UID:6809-1561834800-1561834800@rus.es
SUMMARY:Circuito de Educación Vial
DESCRIPTION:Asistencia al Circuito de Educación Vial\, organizado por la Asociación «Vas a Salir o Qué» .\nLugar: Recinto Ferial\nHora: 19:00 horas
URL:https://rus.es/event/circuito-educacion-vial/
END:VEVENT
BEGIN:VEVENT
DTSTART;VALUE=DATE:20190630
DTEND;VALUE=DATE:20190701
DTSTAMP:20260423T233456
CREATED:20190619T182142Z
LAST-MODIFIED:20190619T182142Z
UID:6813-1561852800-1561939199@rus.es
SUMMARY:VIII KDD Ciclista "Vas A Salir O Qué"
DESCRIPTION:VIII KDD Ciclista «Vas A Salir O Qué»
URL:https://rus.es/event/viii-kdd-ciclista-vas-a-salir-o-que/
END:VEVENT
BEGIN:VEVENT
DTSTART;TZID=Europe/Helsinki:20190710T120000
DTEND;TZID=Europe/Helsinki:20190710T130000
DTSTAMP:20260423T233456
CREATED:20190710T062925Z
LAST-MODIFIED:20190710T062925Z
UID:6942-1562760000-1562763600@rus.es
SUMMARY:Reunión con vecinos
DESCRIPTION:REUNIÓN CON LOS VECINOS DE LA CALLE VIRGEN DEL VAL
URL:https://rus.es/event/reunion-con-vecinos/
END:VEVENT
BEGIN:VEVENT
DTSTART;TZID=Europe/Helsinki:20190711T120000
DTEND;TZID=Europe/Helsinki:20190711T130000
DTSTAMP:20260423T233456
CREATED:20190710T063119Z
LAST-MODIFIED:20190710T063119Z
UID:6944-1562846400-1562850000@rus.es
SUMMARY:Comisión de valoración bolsa de empleo
DESCRIPTION:COMISIÓN DE VALORACIÓN BOLSA DE EMPLEO JOVEN
URL:https://rus.es/event/comision-de-valoracion-bolsa-de-empleo/
END:VEVENT
BEGIN:VEVENT
DTSTART;TZID=Europe/Helsinki:20190713T100000
DTEND;TZID=Europe/Helsinki:20190713T233000
DTSTAMP:20260423T233456
CREATED:20190708T171102Z
LAST-MODIFIED:20190708T171102Z
UID:6933-1563012000-1563060600@rus.es
SUMMARY:Recital piano
DESCRIPTION:Recital de Piano en el Auditorio Municipal.
URL:https://rus.es/event/recital-piano/
END:VEVENT
END:VCALENDAR